BEGIN:VCALENDAR
VERSION:2.0
PRODID:UnionActive
URL:http://IBEW194.ORG/?zone=/unionactive/calendar.cfm&usecalsection=main
NAME:www.IBEW194.ORG main
X-WR-CALNAME:www.IBEW194.ORG main
DESCRIPTION:www.IBEW194.ORG main
X-WR-CALDESC:www.IBEW194.ORG main
REFRESH-INTERVAL;VALUE=DURATION:PT12H
X-PUBLISHED-TTL:PT12H
CALSCALE:GREGORIAN
METHOD:PUBLISH
BEGIN:VEVENT
UID:13559595@IBEW194.ORG
SUMMARY:Bob Davis needs 1 JW for service work
DESCRIPTION:Contact:  \nLink for more information: http://IBEW194.ORG/index.cfm?zone=/unionactive/view_calendar.cfm&calendarID=13559595&thisdate=04/21/2026&useCalSection=main
LOCATION:Bob Davis needs 1 JW for service work
URL:http://IBEW194.ORG/index.cfm?zone=/unionactive/view_calendar.cfm&calendarID=13559595&thisdate=04/21/2026&useCalSection=main
DTSTART:20260421T130000Z
DTEND:20260421T140000Z
DTSTAMP:20260421T073401
TRIGGER:-PT60M
END:VEVENT
BEGIN:VEVENT
UID:13559596@IBEW194.ORG
SUMMARY:2 Open JW Long Call for EMS Electric working at FiberBond 5-10's + every other sat
DESCRIPTION:Contact:  \nLink for more information: http://IBEW194.ORG/index.cfm?zone=/unionactive/view_calendar.cfm&calendarID=13559596&thisdate=04/21/2026&useCalSection=main
LOCATION:2 Open JW Long Call for EMS Electric working at FiberBond 5-10's + every other sat
URL:http://IBEW194.ORG/index.cfm?zone=/unionactive/view_calendar.cfm&calendarID=13559596&thisdate=04/21/2026&useCalSection=main
DTSTART:20260421T130000Z
DTEND:20260421T140000Z
DTSTAMP:20260421T073401
TRIGGER:-PT60M
END:VEVENT
BEGIN:VEVENT
UID:13559597@IBEW194.ORG
SUMMARY:10 OPEN Calls for Caddo Electric at Fiberbond working 5-10's +8 every other Saturday
DESCRIPTION:Contact:  \nLink for more information: http://IBEW194.ORG/index.cfm?zone=/unionactive/view_calendar.cfm&calendarID=13559597&thisdate=04/21/2026&useCalSection=main
LOCATION:10 OPEN Calls for Caddo Electric at Fiberbond working 5-10's +8 every other Saturday
URL:http://IBEW194.ORG/index.cfm?zone=/unionactive/view_calendar.cfm&calendarID=13559597&thisdate=04/21/2026&useCalSection=main
DTSTART:20260421T130000Z
DTEND:20260421T140000Z
DTSTAMP:20260421T073401
TRIGGER:-PT60M
END:VEVENT
BEGIN:VEVENT
UID:13559599@IBEW194.ORG
SUMMARY:20 Calls for Caddo Electric at Fiberbond working 5-10's +8 every other Saturday
DESCRIPTION:Contact:  \nLink for more information: http://IBEW194.ORG/index.cfm?zone=/unionactive/view_calendar.cfm&calendarID=13559599&thisdate=04/21/2026&useCalSection=main
LOCATION:20 Calls for Caddo Electric at Fiberbond working 5-10's +8 every other Saturday
URL:http://IBEW194.ORG/index.cfm?zone=/unionactive/view_calendar.cfm&calendarID=13559599&thisdate=04/21/2026&useCalSection=main
DTSTART:20260421T130000Z
DTEND:20260421T140000Z
DTSTAMP:20260421T073401
TRIGGER:-PT60M
END:VEVENT
BEGIN:VEVENT
UID:13452581@IBEW194.ORG
SUMMARY:Union Meeting
DESCRIPTION:Contact:  \nLink for more information: http://IBEW194.ORG/index.cfm?zone=/unionactive/view_calendar.cfm&calendarID=13452581&thisdate=05/04/2026&useCalSection=main
LOCATION:
URL:http://IBEW194.ORG/index.cfm?zone=/unionactive/view_calendar.cfm&calendarID=13452581&thisdate=05/04/2026&useCalSection=main
DTSTART:20260504T230000Z
DTEND:20260505T020000Z
DTSTAMP:20260421T073401
TRIGGER:-PT60M
END:VEVENT
BEGIN:VEVENT
UID:12746793@IBEW194.ORG
SUMMARY:E-Board Meeting 5pm. 
DESCRIPTION:Contact:  \nLink for more information: http://IBEW194.ORG/index.cfm?zone=/unionactive/view_calendar.cfm&calendarID=12746793&thisdate=05/18/2026&useCalSection=main
LOCATION:
URL:http://IBEW194.ORG/index.cfm?zone=/unionactive/view_calendar.cfm&calendarID=12746793&thisdate=05/18/2026&useCalSection=main
DTSTART:20260518T220000Z
DTEND:20260519T000000Z
DTSTAMP:20260421T073401
TRIGGER:-PT60M
END:VEVENT
BEGIN:VEVENT
UID:13452582@IBEW194.ORG
SUMMARY:Union Meeting
DESCRIPTION:Contact:  \nLink for more information: http://IBEW194.ORG/index.cfm?zone=/unionactive/view_calendar.cfm&calendarID=13452582&thisdate=06/01/2026&useCalSection=main
LOCATION:
URL:http://IBEW194.ORG/index.cfm?zone=/unionactive/view_calendar.cfm&calendarID=13452582&thisdate=06/01/2026&useCalSection=main
DTSTART:20260601T230000Z
DTEND:20260602T020000Z
DTSTAMP:20260421T073401
TRIGGER:-PT60M
END:VEVENT
BEGIN:VEVENT
UID:12746794@IBEW194.ORG
SUMMARY:E-Board Meeting 5pm. 
DESCRIPTION:Contact:  \nLink for more information: http://IBEW194.ORG/index.cfm?zone=/unionactive/view_calendar.cfm&calendarID=12746794&thisdate=06/15/2026&useCalSection=main
LOCATION:
URL:http://IBEW194.ORG/index.cfm?zone=/unionactive/view_calendar.cfm&calendarID=12746794&thisdate=06/15/2026&useCalSection=main
DTSTART:20260615T220000Z
DTEND:20260616T000000Z
DTSTAMP:20260421T073401
TRIGGER:-PT60M
END:VEVENT
BEGIN:VEVENT
UID:13452583@IBEW194.ORG
SUMMARY:Union Meeting
DESCRIPTION:Contact:  \nLink for more information: http://IBEW194.ORG/index.cfm?zone=/unionactive/view_calendar.cfm&calendarID=13452583&thisdate=07/06/2026&useCalSection=main
LOCATION:
URL:http://IBEW194.ORG/index.cfm?zone=/unionactive/view_calendar.cfm&calendarID=13452583&thisdate=07/06/2026&useCalSection=main
DTSTART:20260706T230000Z
DTEND:20260707T020000Z
DTSTAMP:20260421T073401
TRIGGER:-PT60M
END:VEVENT
BEGIN:VEVENT
UID:12746795@IBEW194.ORG
SUMMARY:E-Board Meeting 5pm. 
DESCRIPTION:Contact:  \nLink for more information: http://IBEW194.ORG/index.cfm?zone=/unionactive/view_calendar.cfm&calendarID=12746795&thisdate=07/20/2026&useCalSection=main
LOCATION:
URL:http://IBEW194.ORG/index.cfm?zone=/unionactive/view_calendar.cfm&calendarID=12746795&thisdate=07/20/2026&useCalSection=main
DTSTART:20260720T220000Z
DTEND:20260721T000000Z
DTSTAMP:20260421T073401
TRIGGER:-PT60M
END:VEVENT
BEGIN:VEVENT
UID:13452584@IBEW194.ORG
SUMMARY:Union Meeting
DESCRIPTION:Contact:  \nLink for more information: http://IBEW194.ORG/index.cfm?zone=/unionactive/view_calendar.cfm&calendarID=13452584&thisdate=08/03/2026&useCalSection=main
LOCATION:
URL:http://IBEW194.ORG/index.cfm?zone=/unionactive/view_calendar.cfm&calendarID=13452584&thisdate=08/03/2026&useCalSection=main
DTSTART:20260803T230000Z
DTEND:20260804T020000Z
DTSTAMP:20260421T073401
TRIGGER:-PT60M
END:VEVENT
BEGIN:VEVENT
UID:12746796@IBEW194.ORG
SUMMARY:E-Board Meeting 5pm. 
DESCRIPTION:Contact:  \nLink for more information: http://IBEW194.ORG/index.cfm?zone=/unionactive/view_calendar.cfm&calendarID=12746796&thisdate=08/17/2026&useCalSection=main
LOCATION:
URL:http://IBEW194.ORG/index.cfm?zone=/unionactive/view_calendar.cfm&calendarID=12746796&thisdate=08/17/2026&useCalSection=main
DTSTART:20260817T220000Z
DTEND:20260818T000000Z
DTSTAMP:20260421T073401
TRIGGER:-PT60M
END:VEVENT
BEGIN:VEVENT
UID:13452585@IBEW194.ORG
SUMMARY:Union Meeting
DESCRIPTION:Contact:  \nLink for more information: http://IBEW194.ORG/index.cfm?zone=/unionactive/view_calendar.cfm&calendarID=13452585&thisdate=09/07/2026&useCalSection=main
LOCATION:
URL:http://IBEW194.ORG/index.cfm?zone=/unionactive/view_calendar.cfm&calendarID=13452585&thisdate=09/07/2026&useCalSection=main
DTSTART:20260907T230000Z
DTEND:20260908T020000Z
DTSTAMP:20260421T073401
TRIGGER:-PT60M
END:VEVENT
BEGIN:VEVENT
UID:13452586@IBEW194.ORG
SUMMARY:Union Meeting
DESCRIPTION:Contact:  \nLink for more information: http://IBEW194.ORG/index.cfm?zone=/unionactive/view_calendar.cfm&calendarID=13452586&thisdate=10/05/2026&useCalSection=main
LOCATION:
URL:http://IBEW194.ORG/index.cfm?zone=/unionactive/view_calendar.cfm&calendarID=13452586&thisdate=10/05/2026&useCalSection=main
DTSTART:20261005T230000Z
DTEND:20261006T020000Z
DTSTAMP:20260421T073401
TRIGGER:-PT60M
END:VEVENT
BEGIN:VEVENT
UID:13452587@IBEW194.ORG
SUMMARY:Union Meeting
DESCRIPTION:Contact:  \nLink for more information: http://IBEW194.ORG/index.cfm?zone=/unionactive/view_calendar.cfm&calendarID=13452587&thisdate=11/02/2026&useCalSection=main
LOCATION:
URL:http://IBEW194.ORG/index.cfm?zone=/unionactive/view_calendar.cfm&calendarID=13452587&thisdate=11/02/2026&useCalSection=main
DTSTART:20261103T000000Z
DTEND:20261103T030000Z
DTSTAMP:20260421T073401
TRIGGER:-PT60M
END:VEVENT
BEGIN:VEVENT
UID:13452588@IBEW194.ORG
SUMMARY:Union Meeting
DESCRIPTION:Contact:  \nLink for more information: http://IBEW194.ORG/index.cfm?zone=/unionactive/view_calendar.cfm&calendarID=13452588&thisdate=12/07/2026&useCalSection=main
LOCATION:
URL:http://IBEW194.ORG/index.cfm?zone=/unionactive/view_calendar.cfm&calendarID=13452588&thisdate=12/07/2026&useCalSection=main
DTSTART:20261208T000000Z
DTEND:20261208T030000Z
DTSTAMP:20260421T073401
TRIGGER:-PT60M
END:VEVENT
BEGIN:VEVENT
UID:13452589@IBEW194.ORG
SUMMARY:Union Meeting
DESCRIPTION:Contact:  \nLink for more information: http://IBEW194.ORG/index.cfm?zone=/unionactive/view_calendar.cfm&calendarID=13452589&thisdate=01/04/2027&useCalSection=main
LOCATION:
URL:http://IBEW194.ORG/index.cfm?zone=/unionactive/view_calendar.cfm&calendarID=13452589&thisdate=01/04/2027&useCalSection=main
DTSTART:20270105T000000Z
DTEND:20270105T030000Z
DTSTAMP:20260421T073401
TRIGGER:-PT60M
END:VEVENT
BEGIN:VEVENT
UID:13452590@IBEW194.ORG
SUMMARY:Union Meeting
DESCRIPTION:Contact:  \nLink for more information: http://IBEW194.ORG/index.cfm?zone=/unionactive/view_calendar.cfm&calendarID=13452590&thisdate=02/01/2027&useCalSection=main
LOCATION:
URL:http://IBEW194.ORG/index.cfm?zone=/unionactive/view_calendar.cfm&calendarID=13452590&thisdate=02/01/2027&useCalSection=main
DTSTART:20270202T000000Z
DTEND:20270202T030000Z
DTSTAMP:20260421T073401
TRIGGER:-PT60M
END:VEVENT
BEGIN:VEVENT
UID:13452591@IBEW194.ORG
SUMMARY:Union Meeting
DESCRIPTION:Contact:  \nLink for more information: http://IBEW194.ORG/index.cfm?zone=/unionactive/view_calendar.cfm&calendarID=13452591&thisdate=03/01/2027&useCalSection=main
LOCATION:
URL:http://IBEW194.ORG/index.cfm?zone=/unionactive/view_calendar.cfm&calendarID=13452591&thisdate=03/01/2027&useCalSection=main
DTSTART:20270302T000000Z
DTEND:20270302T030000Z
DTSTAMP:20260421T073401
TRIGGER:-PT60M
END:VEVENT
BEGIN:VEVENT
UID:13452592@IBEW194.ORG
SUMMARY:Union Meeting
DESCRIPTION:Contact:  \nLink for more information: http://IBEW194.ORG/index.cfm?zone=/unionactive/view_calendar.cfm&calendarID=13452592&thisdate=04/05/2027&useCalSection=main
LOCATION:
URL:http://IBEW194.ORG/index.cfm?zone=/unionactive/view_calendar.cfm&calendarID=13452592&thisdate=04/05/2027&useCalSection=main
DTSTART:20270405T230000Z
DTEND:20270406T020000Z
DTSTAMP:20260421T073401
TRIGGER:-PT60M
END:VEVENT
BEGIN:VEVENT
UID:13452593@IBEW194.ORG
SUMMARY:Union Meeting
DESCRIPTION:Contact:  \nLink for more information: http://IBEW194.ORG/index.cfm?zone=/unionactive/view_calendar.cfm&calendarID=13452593&thisdate=05/03/2027&useCalSection=main
LOCATION:
URL:http://IBEW194.ORG/index.cfm?zone=/unionactive/view_calendar.cfm&calendarID=13452593&thisdate=05/03/2027&useCalSection=main
DTSTART:20270503T230000Z
DTEND:20270504T020000Z
DTSTAMP:20260421T073401
TRIGGER:-PT60M
END:VEVENT
BEGIN:VEVENT
UID:13452594@IBEW194.ORG
SUMMARY:Union Meeting
DESCRIPTION:Contact:  \nLink for more information: http://IBEW194.ORG/index.cfm?zone=/unionactive/view_calendar.cfm&calendarID=13452594&thisdate=06/07/2027&useCalSection=main
LOCATION:
URL:http://IBEW194.ORG/index.cfm?zone=/unionactive/view_calendar.cfm&calendarID=13452594&thisdate=06/07/2027&useCalSection=main
DTSTART:20270607T230000Z
DTEND:20270608T020000Z
DTSTAMP:20260421T073401
TRIGGER:-PT60M
END:VEVENT
BEGIN:VEVENT
UID:13452595@IBEW194.ORG
SUMMARY:Union Meeting
DESCRIPTION:Contact:  \nLink for more information: http://IBEW194.ORG/index.cfm?zone=/unionactive/view_calendar.cfm&calendarID=13452595&thisdate=07/05/2027&useCalSection=main
LOCATION:
URL:http://IBEW194.ORG/index.cfm?zone=/unionactive/view_calendar.cfm&calendarID=13452595&thisdate=07/05/2027&useCalSection=main
DTSTART:20270705T230000Z
DTEND:20270706T020000Z
DTSTAMP:20260421T073401
TRIGGER:-PT60M
END:VEVENT
BEGIN:VEVENT
UID:13452596@IBEW194.ORG
SUMMARY:Union Meeting
DESCRIPTION:Contact:  \nLink for more information: http://IBEW194.ORG/index.cfm?zone=/unionactive/view_calendar.cfm&calendarID=13452596&thisdate=08/02/2027&useCalSection=main
LOCATION:
URL:http://IBEW194.ORG/index.cfm?zone=/unionactive/view_calendar.cfm&calendarID=13452596&thisdate=08/02/2027&useCalSection=main
DTSTART:20270802T230000Z
DTEND:20270803T020000Z
DTSTAMP:20260421T073401
TRIGGER:-PT60M
END:VEVENT
BEGIN:VEVENT
UID:13452597@IBEW194.ORG
SUMMARY:Union Meeting
DESCRIPTION:Contact:  \nLink for more information: http://IBEW194.ORG/index.cfm?zone=/unionactive/view_calendar.cfm&calendarID=13452597&thisdate=09/06/2027&useCalSection=main
LOCATION:
URL:http://IBEW194.ORG/index.cfm?zone=/unionactive/view_calendar.cfm&calendarID=13452597&thisdate=09/06/2027&useCalSection=main
DTSTART:20270906T230000Z
DTEND:20270907T020000Z
DTSTAMP:20260421T073401
TRIGGER:-PT60M
END:VEVENT
BEGIN:VEVENT
UID:13452598@IBEW194.ORG
SUMMARY:Union Meeting
DESCRIPTION:Contact:  \nLink for more information: http://IBEW194.ORG/index.cfm?zone=/unionactive/view_calendar.cfm&calendarID=13452598&thisdate=10/04/2027&useCalSection=main
LOCATION:
URL:http://IBEW194.ORG/index.cfm?zone=/unionactive/view_calendar.cfm&calendarID=13452598&thisdate=10/04/2027&useCalSection=main
DTSTART:20271004T230000Z
DTEND:20271005T020000Z
DTSTAMP:20260421T073401
TRIGGER:-PT60M
END:VEVENT
BEGIN:VEVENT
UID:13452599@IBEW194.ORG
SUMMARY:Union Meeting
DESCRIPTION:Contact:  \nLink for more information: http://IBEW194.ORG/index.cfm?zone=/unionactive/view_calendar.cfm&calendarID=13452599&thisdate=11/01/2027&useCalSection=main
LOCATION:
URL:http://IBEW194.ORG/index.cfm?zone=/unionactive/view_calendar.cfm&calendarID=13452599&thisdate=11/01/2027&useCalSection=main
DTSTART:20271101T230000Z
DTEND:20271102T020000Z
DTSTAMP:20260421T073401
TRIGGER:-PT60M
END:VEVENT
BEGIN:VEVENT
UID:13452600@IBEW194.ORG
SUMMARY:Union Meeting
DESCRIPTION:Contact:  \nLink for more information: http://IBEW194.ORG/index.cfm?zone=/unionactive/view_calendar.cfm&calendarID=13452600&thisdate=12/06/2027&useCalSection=main
LOCATION:
URL:http://IBEW194.ORG/index.cfm?zone=/unionactive/view_calendar.cfm&calendarID=13452600&thisdate=12/06/2027&useCalSection=main
DTSTART:20271207T000000Z
DTEND:20271207T030000Z
DTSTAMP:20260421T073401
TRIGGER:-PT60M
END:VEVENT
BEGIN:VEVENT
UID:13452601@IBEW194.ORG
SUMMARY:Union Meeting
DESCRIPTION:Contact:  \nLink for more information: http://IBEW194.ORG/index.cfm?zone=/unionactive/view_calendar.cfm&calendarID=13452601&thisdate=01/03/2028&useCalSection=main
LOCATION:
URL:http://IBEW194.ORG/index.cfm?zone=/unionactive/view_calendar.cfm&calendarID=13452601&thisdate=01/03/2028&useCalSection=main
DTSTART:20280104T000000Z
DTEND:20280104T030000Z
DTSTAMP:20260421T073401
TRIGGER:-PT60M
END:VEVENT
BEGIN:VEVENT
UID:13452602@IBEW194.ORG
SUMMARY:Union Meeting
DESCRIPTION:Contact:  \nLink for more information: http://IBEW194.ORG/index.cfm?zone=/unionactive/view_calendar.cfm&calendarID=13452602&thisdate=02/07/2028&useCalSection=main
LOCATION:
URL:http://IBEW194.ORG/index.cfm?zone=/unionactive/view_calendar.cfm&calendarID=13452602&thisdate=02/07/2028&useCalSection=main
DTSTART:20280208T000000Z
DTEND:20280208T030000Z
DTSTAMP:20260421T073401
TRIGGER:-PT60M
END:VEVENT
BEGIN:VEVENT
UID:13452603@IBEW194.ORG
SUMMARY:Union Meeting
DESCRIPTION:Contact:  \nLink for more information: http://IBEW194.ORG/index.cfm?zone=/unionactive/view_calendar.cfm&calendarID=13452603&thisdate=03/06/2028&useCalSection=main
LOCATION:
URL:http://IBEW194.ORG/index.cfm?zone=/unionactive/view_calendar.cfm&calendarID=13452603&thisdate=03/06/2028&useCalSection=main
DTSTART:20280307T000000Z
DTEND:20280307T030000Z
DTSTAMP:20260421T073401
TRIGGER:-PT60M
END:VEVENT
BEGIN:VEVENT
UID:13452604@IBEW194.ORG
SUMMARY:Union Meeting
DESCRIPTION:Contact:  \nLink for more information: http://IBEW194.ORG/index.cfm?zone=/unionactive/view_calendar.cfm&calendarID=13452604&thisdate=04/03/2028&useCalSection=main
LOCATION:
URL:http://IBEW194.ORG/index.cfm?zone=/unionactive/view_calendar.cfm&calendarID=13452604&thisdate=04/03/2028&useCalSection=main
DTSTART:20280403T230000Z
DTEND:20280404T020000Z
DTSTAMP:20260421T073401
TRIGGER:-PT60M
END:VEVENT
BEGIN:VEVENT
UID:13452605@IBEW194.ORG
SUMMARY:Union Meeting
DESCRIPTION:Contact:  \nLink for more information: http://IBEW194.ORG/index.cfm?zone=/unionactive/view_calendar.cfm&calendarID=13452605&thisdate=05/01/2028&useCalSection=main
LOCATION:
URL:http://IBEW194.ORG/index.cfm?zone=/unionactive/view_calendar.cfm&calendarID=13452605&thisdate=05/01/2028&useCalSection=main
DTSTART:20280501T230000Z
DTEND:20280502T020000Z
DTSTAMP:20260421T073401
TRIGGER:-PT60M
END:VEVENT
BEGIN:VEVENT
UID:13452606@IBEW194.ORG
SUMMARY:Union Meeting
DESCRIPTION:Contact:  \nLink for more information: http://IBEW194.ORG/index.cfm?zone=/unionactive/view_calendar.cfm&calendarID=13452606&thisdate=06/05/2028&useCalSection=main
LOCATION:
URL:http://IBEW194.ORG/index.cfm?zone=/unionactive/view_calendar.cfm&calendarID=13452606&thisdate=06/05/2028&useCalSection=main
DTSTART:20280605T230000Z
DTEND:20280606T020000Z
DTSTAMP:20260421T073401
TRIGGER:-PT60M
END:VEVENT
BEGIN:VEVENT
UID:13452607@IBEW194.ORG
SUMMARY:Union Meeting
DESCRIPTION:Contact:  \nLink for more information: http://IBEW194.ORG/index.cfm?zone=/unionactive/view_calendar.cfm&calendarID=13452607&thisdate=07/03/2028&useCalSection=main
LOCATION:
URL:http://IBEW194.ORG/index.cfm?zone=/unionactive/view_calendar.cfm&calendarID=13452607&thisdate=07/03/2028&useCalSection=main
DTSTART:20280703T230000Z
DTEND:20280704T020000Z
DTSTAMP:20260421T073401
TRIGGER:-PT60M
END:VEVENT
BEGIN:VEVENT
UID:13452608@IBEW194.ORG
SUMMARY:Union Meeting
DESCRIPTION:Contact:  \nLink for more information: http://IBEW194.ORG/index.cfm?zone=/unionactive/view_calendar.cfm&calendarID=13452608&thisdate=08/07/2028&useCalSection=main
LOCATION:
URL:http://IBEW194.ORG/index.cfm?zone=/unionactive/view_calendar.cfm&calendarID=13452608&thisdate=08/07/2028&useCalSection=main
DTSTART:20280807T230000Z
DTEND:20280808T020000Z
DTSTAMP:20260421T073401
TRIGGER:-PT60M
END:VEVENT
BEGIN:VEVENT
UID:13452609@IBEW194.ORG
SUMMARY:Union Meeting
DESCRIPTION:Contact:  \nLink for more information: http://IBEW194.ORG/index.cfm?zone=/unionactive/view_calendar.cfm&calendarID=13452609&thisdate=09/04/2028&useCalSection=main
LOCATION:
URL:http://IBEW194.ORG/index.cfm?zone=/unionactive/view_calendar.cfm&calendarID=13452609&thisdate=09/04/2028&useCalSection=main
DTSTART:20280904T230000Z
DTEND:20280905T020000Z
DTSTAMP:20260421T073401
TRIGGER:-PT60M
END:VEVENT
BEGIN:VEVENT
UID:13452610@IBEW194.ORG
SUMMARY:Union Meeting
DESCRIPTION:Contact:  \nLink for more information: http://IBEW194.ORG/index.cfm?zone=/unionactive/view_calendar.cfm&calendarID=13452610&thisdate=10/02/2028&useCalSection=main
LOCATION:
URL:http://IBEW194.ORG/index.cfm?zone=/unionactive/view_calendar.cfm&calendarID=13452610&thisdate=10/02/2028&useCalSection=main
DTSTART:20281002T230000Z
DTEND:20281003T020000Z
DTSTAMP:20260421T073401
TRIGGER:-PT60M
END:VEVENT
BEGIN:VEVENT
UID:13452611@IBEW194.ORG
SUMMARY:Union Meeting
DESCRIPTION:Contact:  \nLink for more information: http://IBEW194.ORG/index.cfm?zone=/unionactive/view_calendar.cfm&calendarID=13452611&thisdate=11/06/2028&useCalSection=main
LOCATION:
URL:http://IBEW194.ORG/index.cfm?zone=/unionactive/view_calendar.cfm&calendarID=13452611&thisdate=11/06/2028&useCalSection=main
DTSTART:20281107T000000Z
DTEND:20281107T030000Z
DTSTAMP:20260421T073401
TRIGGER:-PT60M
END:VEVENT
BEGIN:VEVENT
UID:13452612@IBEW194.ORG
SUMMARY:Union Meeting
DESCRIPTION:Contact:  \nLink for more information: http://IBEW194.ORG/index.cfm?zone=/unionactive/view_calendar.cfm&calendarID=13452612&thisdate=12/04/2028&useCalSection=main
LOCATION:
URL:http://IBEW194.ORG/index.cfm?zone=/unionactive/view_calendar.cfm&calendarID=13452612&thisdate=12/04/2028&useCalSection=main
DTSTART:20281205T000000Z
DTEND:20281205T030000Z
DTSTAMP:20260421T073401
TRIGGER:-PT60M
END:VEVENT
END:VCALENDAR
